BEGIN:VCALENDAR
VERSION:2.0
PRODID:-//Read Indie Fantasy - ECPv6.15.20//NONSGML v1.0//EN
CALSCALE:GREGORIAN
METHOD:PUBLISH
X-ORIGINAL-URL:https://www.readindiefantasy.com
X-WR-CALDESC:Events for Read Indie Fantasy
REFRESH-INTERVAL;VALUE=DURATION:PT1H
X-Robots-Tag:noindex
X-PUBLISHED-TTL:PT1H
BEGIN:VTIMEZONE
TZID:Europe/Paris
BEGIN:DAYLIGHT
TZOFFSETFROM:+0100
TZOFFSETTO:+0200
TZNAME:CEST
DTSTART:20200329T010000
END:DAYLIGHT
BEGIN:STANDARD
TZOFFSETFROM:+0200
TZOFFSETTO:+0100
TZNAME:CET
DTSTART:20201025T010000
END:STANDARD
BEGIN:DAYLIGHT
TZOFFSETFROM:+0100
TZOFFSETTO:+0200
TZNAME:CEST
DTSTART:20210328T010000
END:DAYLIGHT
BEGIN:STANDARD
TZOFFSETFROM:+0200
TZOFFSETTO:+0100
TZNAME:CET
DTSTART:20211031T010000
END:STANDARD
BEGIN:DAYLIGHT
TZOFFSETFROM:+0100
TZOFFSETTO:+0200
TZNAME:CEST
DTSTART:20220327T010000
END:DAYLIGHT
BEGIN:STANDARD
TZOFFSETFROM:+0200
TZOFFSETTO:+0100
TZNAME:CET
DTSTART:20221030T010000
END:STANDARD
END:VTIMEZONE
BEGIN:VEVENT
DTSTART;TZID=Europe/Paris:20210901T080000
DTEND;TZID=Europe/Paris:20210930T170000
DTSTAMP:20260423T051921
CREATED:20210901T180003Z
LAST-MODIFIED:20240514T130023Z
UID:7052-1630483200-1633021200@www.readindiefantasy.com
SUMMARY:Self-Published Fantasy Month 2021
DESCRIPTION:Self-Published Fantasy Month is an annual celebration of self-published fantasy which began as a passion project from Jason Aycock of Off the TBR blog. This year\, it’s being hosted by an amazing team who have all kinds of events planned for the month\, including read-alongs\, daily prompts and challenges\, and loads of content from reviews to interviews\, all with the aim of promoting and celebrating self-published fantasy authors. \nTo get involved\, visit the official Self-Published Fantasy Month website to learn more about the activities planned and view the amazing daily challenge schedule. Or visit their official Discord Server and get chatting with the team and other self-published readers and authors.
URL:https://www.readindiefantasy.com/event/self-published-fantasy-month-2021/
CATEGORIES:Self-Publishing Event
ATTACH;FMTTYPE=image/jpeg:https://www.readindiefantasy.com/wp-content/uploads/2024/04/Self-PublishedFantasyMonth.jpg
END:VEVENT
END:VCALENDAR